Package: MAI Version: 1.13.0 Command: /Library/Frameworks/R.framework/Resources/bin/R CMD build --keep-empty-dirs --no-resave-data MAI StartedAt: 2025-02-09 17:17:36 -0500 (Sun, 09 Feb 2025) EndedAt: 2025-02-09 17:22:43 -0500 (Sun, 09 Feb 2025) EllapsedTime: 306.4 seconds RetCode: 0 Status: OK PackageFile: MAI_1.13.0.tar.gz PackageFileSize: 452.2 KiB