Package: MAI Version: 1.13.0 Command: /Library/Frameworks/R.framework/Resources/bin/R CMD INSTALL MAI StartedAt: 2025-02-12 15:36:54 -0500 (Wed, 12 Feb 2025) EndedAt: 2025-02-12 15:37:30 -0500 (Wed, 12 Feb 2025) EllapsedTime: 36.3 seconds RetCode: 0 Status: OK