Package: MAI Version: 1.13.0 Command: /home/biocbuild/bbs-3.21-bioc/R/bin/R CMD build --keep-empty-dirs --no-resave-data MAI StartedAt: 2025-02-09 17:54:41 -0500 (Sun, 09 Feb 2025) EndedAt: 2025-02-09 17:59:16 -0500 (Sun, 09 Feb 2025) EllapsedTime: 275.3 seconds RetCode: 0 Status: OK PackageFile: MAI_1.13.0.tar.gz PackageFileSize: 452.3 KiB