Package: MAIT Version: 1.41.0 Maintainer: Pol Sola-Santos MaintainerEmail: pol.soladelossantos at gmail.com git_url: https://git.bioconductor.org/packages/MAIT git_branch: devel git_last_commit: 2f8e62b git_last_commit_date: 2024-10-29 09:55:51 -0500 (Tue, 29 Oct 2024)