Package: MAIT Version: 1.41.0 Command: /Library/Frameworks/R.framework/Resources/bin/R CMD build --keep-empty-dirs --no-resave-data MAIT StartedAt: 2025-02-04 16:48:03 -0500 (Tue, 04 Feb 2025) EndedAt: 2025-02-04 16:48:35 -0500 (Tue, 04 Feb 2025) EllapsedTime: 31.3 seconds RetCode: 1 Status: ERROR PackageFile: None PackageFileSize: NA