Package: MAIT Version: 1.41.0 Command: /home/biocbuild/bbs-3.21-bioc/R/bin/R CMD check --install=check:MAIT.install-out.txt --library=/home/biocbuild/bbs-3.21-bioc/R/site-library --timings MAIT_1.41.0.tar.gz StartedAt: 2025-02-09 23:44:06 -0500 (Sun, 09 Feb 2025) EndedAt: 2025-02-09 23:53:08 -0500 (Sun, 09 Feb 2025) EllapsedTime: 541.7 seconds RetCode: 0 Status: OK CheckDir: MAIT.Rcheck Warnings: 0