Package: MAIT Version: 1.41.0 Command: rm -rf MAIT.buildbin-libdir && mkdir MAIT.buildbin-libdir && E:\biocbuild\bbs-3.21-bioc\R\bin\R.exe CMD INSTALL --build --library=MAIT.buildbin-libdir MAIT_1.41.0.tar.gz StartedAt: 2025-02-05 08:15:20 -0500 (Wed, 05 Feb 2025) EndedAt: 2025-02-05 08:17:01 -0500 (Wed, 05 Feb 2025) EllapsedTime: 100.8 seconds RetCode: 0 Status: OK PackageFile: MAIT_1.41.0.zip PackageFileSize: 899.5 KiB