Package: MAIT Version: 1.41.0 Command: chmod a+r MAIT -R && E:\biocbuild\bbs-3.21-bioc\R\bin\R.exe CMD build --keep-empty-dirs --no-resave-data MAIT StartedAt: 2025-02-04 19:39:44 -0500 (Tue, 04 Feb 2025) EndedAt: 2025-02-04 19:43:52 -0500 (Tue, 04 Feb 2025) EllapsedTime: 247.9 seconds RetCode: 0 Status: OK PackageFile: MAIT_1.41.0.tar.gz PackageFileSize: 2.259 MiB