Package: MAIT Version: 1.41.0 Command: E:\biocbuild\bbs-3.21-bioc\R\bin\R.exe CMD INSTALL MAIT StartedAt: 2025-02-04 16:40:12 -0500 (Tue, 04 Feb 2025) EndedAt: 2025-02-04 16:41:35 -0500 (Tue, 04 Feb 2025) EllapsedTime: 83.2 seconds RetCode: 0 Status: OK