Package: MANOR Version: 1.79.0 Maintainer: Pierre Neuvial MaintainerEmail: pierre.neuvial at math.cnrs.fr git_url: https://git.bioconductor.org/packages/MANOR git_branch: devel git_last_commit: 8992a9b git_last_commit_date: 2024-10-29 09:25:24 -0500 (Tue, 29 Oct 2024)