Package: MANOR Version: 1.79.0 Command: /Library/Frameworks/R.framework/Resources/bin/R CMD build --keep-empty-dirs --no-resave-data MANOR StartedAt: 2025-02-09 16:47:56 -0500 (Sun, 09 Feb 2025) EndedAt: 2025-02-09 16:47:57 -0500 (Sun, 09 Feb 2025) EllapsedTime: 1.0 seconds RetCode: 1 Status: ERROR PackageFile: None PackageFileSize: NA