Package: MANOR Version: 1.79.0 Command: /home/biocbuild/R/R/bin/R CMD INSTALL MANOR StartedAt: 2025-01-29 19:31:14 -0000 (Wed, 29 Jan 2025) EndedAt: 2025-01-29 19:31:15 -0000 (Wed, 29 Jan 2025) EllapsedTime: 0.9 seconds RetCode: 1 Status: ERROR