Package: MANOR Version: 1.79.0 Command: /Library/Frameworks/R.framework/Resources/bin/R CMD build --keep-empty-dirs --no-resave-data MANOR StartedAt: 2025-02-12 17:14:19 -0500 (Wed, 12 Feb 2025) EndedAt: 2025-02-12 17:14:21 -0500 (Wed, 12 Feb 2025) EllapsedTime: 2.3 seconds RetCode: 1 Status: ERROR PackageFile: None PackageFileSize: NA