Package: MANOR Version: 1.79.0 Command: /home/biocbuild/bbs-3.21-bioc/R/bin/R CMD check --install=check:MANOR.install-out.txt --library=/home/biocbuild/bbs-3.21-bioc/R/site-library --timings MANOR_1.79.0.tar.gz StartedAt: 2025-01-21 23:37:03 -0500 (Tue, 21 Jan 2025) EndedAt: 2025-01-21 23:38:08 -0500 (Tue, 21 Jan 2025) EllapsedTime: 65.1 seconds RetCode: 0 Status: WARNINGS CheckDir: MANOR.Rcheck Warnings: 2