Package: MANOR Version: 1.79.0 Command: rm -rf MANOR.buildbin-libdir && mkdir MANOR.buildbin-libdir && E:\biocbuild\bbs-3.21-bioc\R\bin\R.exe CMD INSTALL --build --library=MANOR.buildbin-libdir MANOR_1.79.0.tar.gz StartedAt: 2025-01-22 07:55:52 -0500 (Wed, 22 Jan 2025) EndedAt: 2025-01-22 07:56:16 -0500 (Wed, 22 Jan 2025) EllapsedTime: 24.0 seconds RetCode: 0 Status: OK PackageFile: MANOR_1.79.0.zip PackageFileSize: 916.2 KiB