############################################################################## ############################################################################## ### ### Running command: ### ### chmod a+r MANOR -R && E:\biocbuild\bbs-3.21-bioc\R\bin\R.exe CMD build --keep-empty-dirs --no-resave-data MANOR ### ############################################################################## ############################################################################## * checking for file 'MANOR/DESCRIPTION' ... OK * preparing 'MANOR': * checking DESCRIPTION meta-information ... OK * cleaning src * installing the package to build vignettes ----------------------------------- ERROR: dependency 'GLAD' is not available for package 'MANOR' Perhaps try a variation of: install.packages('GLAD') * removing 'E:/biocbuild/bbs-3.21-bioc/tmpdir/RtmpOkaLHj/Rinst13b9ce8c3680/MANOR' ----------------------------------- ERROR: package installation failed