############################################################################## ############################################################################## ### ### Running command: ### ### E:\biocbuild\bbs-3.21-bioc\R\bin\R.exe CMD INSTALL MANOR ### ############################################################################## ############################################################################## * installing to library 'E:/biocbuild/bbs-3.21-bioc/R/library' ERROR: dependency 'GLAD' is not available for package 'MANOR' Perhaps try a variation of: install.packages('GLAD') * removing 'E:/biocbuild/bbs-3.21-bioc/R/library/MANOR'