Package: MANOR Version: 1.79.0 Command: E:\biocbuild\bbs-3.21-bioc\R\bin\R.exe CMD INSTALL MANOR StartedAt: 2025-02-09 15:21:20 -0500 (Sun, 09 Feb 2025) EndedAt: 2025-02-09 15:21:22 -0500 (Sun, 09 Feb 2025) EllapsedTime: 2.7 seconds RetCode: 1 Status: ERROR