Package: MAST Version: 1.33.0 Command: rm -rf MAST.buildbin-libdir && mkdir MAST.buildbin-libdir && /Users/biocbuild/BBS/utils/build-universal.sh MAST_1.33.0.tar.gz /Library/Frameworks/R.framework/Resources/bin/R MAST.buildbin-libdir StartedAt: 2025-02-09 22:19:48 -0500 (Sun, 09 Feb 2025) EndedAt: 2025-02-09 22:20:06 -0500 (Sun, 09 Feb 2025) EllapsedTime: 18.4 seconds RetCode: 0 Status: OK PackageFile: MAST_1.33.0.tgz PackageFileSize: 7.896 MiB