Package: MAST Version: 1.33.0 Command: /Library/Frameworks/R.framework/Resources/bin/R CMD check --install=check:MAST.install-out.txt --library=/Library/Frameworks/R.framework/Resources/library --no-vignettes --timings MAST_1.33.0.tar.gz StartedAt: 2025-02-12 20:00:02 -0500 (Wed, 12 Feb 2025) EndedAt: 2025-02-12 20:01:47 -0500 (Wed, 12 Feb 2025) EllapsedTime: 104.2 seconds RetCode: 1 Status: ERROR CheckDir: MAST.Rcheck Warnings: NA