Package: MAST Version: 1.33.0 Command: /Library/Frameworks/R.framework/Resources/bin/R CMD INSTALL MAST StartedAt: 2025-02-09 15:06:08 -0500 (Sun, 09 Feb 2025) EndedAt: 2025-02-09 15:06:24 -0500 (Sun, 09 Feb 2025) EllapsedTime: 16.1 seconds RetCode: 0 Status: OK