Package: MAST Version: 1.33.0 Command: /home/biocbuild/R/R/bin/R CMD build --keep-empty-dirs --no-resave-data MAST StartedAt: 2025-01-29 00:01:13 -0000 (Wed, 29 Jan 2025) EndedAt: 2025-01-29 00:07:48 -0000 (Wed, 29 Jan 2025) EllapsedTime: 395.1 seconds RetCode: 0 Status: OK PackageFile: MAST_1.33.0.tar.gz PackageFileSize: 5.927 MiB