Package: MAST Version: 1.33.0 Command: /home/biocbuild/R/R/bin/R CMD INSTALL MAST StartedAt: 2025-01-29 19:41:56 -0000 (Wed, 29 Jan 2025) EndedAt: 2025-01-29 19:42:51 -0000 (Wed, 29 Jan 2025) EllapsedTime: 54.6 seconds RetCode: 0 Status: OK