Package: MAST Version: 1.33.0 Command: chmod a+r MAST -R && E:\biocbuild\bbs-3.21-bioc\R\bin\R.exe CMD build --keep-empty-dirs --no-resave-data MAST StartedAt: 2025-02-09 19:40:07 -0500 (Sun, 09 Feb 2025) EndedAt: 2025-02-09 19:47:11 -0500 (Sun, 09 Feb 2025) EllapsedTime: 423.9 seconds RetCode: 0 Status: OK PackageFile: MAST_1.33.0.tar.gz PackageFileSize: 5.39 MiB