Package: MAST Version: 1.33.0 Command: E:\biocbuild\bbs-3.21-bioc\R\bin\R.exe CMD check --no-multiarch --install=check:MAST.install-out.txt --library=E:\biocbuild\bbs-3.21-bioc\R\library --no-vignettes --timings MAST_1.33.0.tar.gz StartedAt: 2025-02-10 02:33:08 -0500 (Mon, 10 Feb 2025) EndedAt: 2025-02-10 02:38:55 -0500 (Mon, 10 Feb 2025) EllapsedTime: 347.7 seconds RetCode: 0 Status: WARNINGS CheckDir: MAST.Rcheck Warnings: 1