Package: MAST Version: 1.33.0 Command: E:\biocbuild\bbs-3.21-bioc\R\bin\R.exe CMD INSTALL MAST StartedAt: 2025-02-09 16:22:36 -0500 (Sun, 09 Feb 2025) EndedAt: 2025-02-09 16:23:54 -0500 (Sun, 09 Feb 2025) EllapsedTime: 78.4 seconds RetCode: 0 Status: OK