Package: MBASED Version: 1.41.0 Command: /Library/Frameworks/R.framework/Resources/bin/R CMD build --keep-empty-dirs --no-resave-data MBASED StartedAt: 2025-02-04 16:49:45 -0500 (Tue, 04 Feb 2025) EndedAt: 2025-02-04 16:50:35 -0500 (Tue, 04 Feb 2025) EllapsedTime: 49.6 seconds RetCode: 0 Status: OK PackageFile: MBASED_1.41.0.tar.gz PackageFileSize: 364.6 KiB