Package: MBASED Version: 1.41.0 Command: /Library/Frameworks/R.framework/Resources/bin/R CMD check --install=check:MBASED.install-out.txt --library=/Library/Frameworks/R.framework/Resources/library --no-vignettes --timings MBASED_1.41.0.tar.gz StartedAt: 2025-02-04 19:58:15 -0500 (Tue, 04 Feb 2025) EndedAt: 2025-02-04 19:59:22 -0500 (Tue, 04 Feb 2025) EllapsedTime: 66.7 seconds RetCode: 0 Status: OK CheckDir: MBASED.Rcheck Warnings: 0