Package: MBASED Version: 1.41.0 Command: /Library/Frameworks/R.framework/Resources/bin/R CMD INSTALL MBASED StartedAt: 2025-02-04 15:10:22 -0500 (Tue, 04 Feb 2025) EndedAt: 2025-02-04 15:10:30 -0500 (Tue, 04 Feb 2025) EllapsedTime: 8.0 seconds RetCode: 0 Status: OK