Package: MBASED Version: 1.41.0 Command: /home/biocbuild/R/R/bin/R CMD build --keep-empty-dirs --no-resave-data MBASED StartedAt: 2025-01-29 00:02:43 -0000 (Wed, 29 Jan 2025) EndedAt: 2025-01-29 00:06:04 -0000 (Wed, 29 Jan 2025) EllapsedTime: 201.1 seconds RetCode: 0 Status: OK PackageFile: MBASED_1.41.0.tar.gz PackageFileSize: 355.7 KiB