Package: MBASED Version: 1.41.0 Command: /home/biocbuild/R/R/bin/R CMD INSTALL MBASED StartedAt: 2025-01-29 19:53:29 -0000 (Wed, 29 Jan 2025) EndedAt: 2025-01-29 19:53:57 -0000 (Wed, 29 Jan 2025) EllapsedTime: 28.5 seconds RetCode: 0 Status: OK