Package: MBASED Version: 1.41.0 Command: /Library/Frameworks/R.framework/Resources/bin/R CMD build --keep-empty-dirs --no-resave-data MBASED StartedAt: 2025-02-04 17:14:23 -0500 (Tue, 04 Feb 2025) EndedAt: 2025-02-04 17:16:25 -0500 (Tue, 04 Feb 2025) EllapsedTime: 122.3 seconds RetCode: 0 Status: OK PackageFile: MBASED_1.41.0.tar.gz PackageFileSize: 364.8 KiB