Package: MBASED Version: 1.41.0 Command: /Library/Frameworks/R.framework/Resources/bin/R CMD check --install=check:MBASED.install-out.txt --library=/Library/Frameworks/R.framework/Resources/library --no-vignettes --timings MBASED_1.41.0.tar.gz StartedAt: 2025-02-04 21:26:18 -0500 (Tue, 04 Feb 2025) EndedAt: 2025-02-04 21:29:38 -0500 (Tue, 04 Feb 2025) EllapsedTime: 199.6 seconds RetCode: 0 Status: OK CheckDir: MBASED.Rcheck Warnings: 0