Package: MBASED Version: 1.41.0 Command: /home/biocbuild/bbs-3.21-bioc/R/bin/R CMD check --install=check:MBASED.install-out.txt --library=/home/biocbuild/bbs-3.21-bioc/R/site-library --timings MBASED_1.41.0.tar.gz StartedAt: 2025-02-04 23:47:27 -0500 (Tue, 04 Feb 2025) EndedAt: 2025-02-04 23:51:48 -0500 (Tue, 04 Feb 2025) EllapsedTime: 261.3 seconds RetCode: 0 Status: OK CheckDir: MBASED.Rcheck Warnings: 0