Package: MBASED Version: 1.41.0 Command: /home/biocbuild/bbs-3.21-bioc/R/bin/R CMD INSTALL MBASED StartedAt: 2025-02-04 15:28:59 -0500 (Tue, 04 Feb 2025) EndedAt: 2025-02-04 15:29:20 -0500 (Tue, 04 Feb 2025) EllapsedTime: 20.9 seconds RetCode: 0 Status: OK