Package: MBASED Version: 1.41.0 Command: rm -rf MBASED.buildbin-libdir && mkdir MBASED.buildbin-libdir && E:\biocbuild\bbs-3.21-bioc\R\bin\R.exe CMD INSTALL --build --library=MBASED.buildbin-libdir MBASED_1.41.0.tar.gz StartedAt: 2025-02-10 08:04:51 -0500 (Mon, 10 Feb 2025) EndedAt: 2025-02-10 08:05:29 -0500 (Mon, 10 Feb 2025) EllapsedTime: 37.5 seconds RetCode: 0 Status: OK PackageFile: MBASED_1.41.0.zip PackageFileSize: 500 KiB