Package: MBASED Version: 1.41.0 Command: E:\biocbuild\bbs-3.21-bioc\R\bin\R.exe CMD check --no-multiarch --install=check:MBASED.install-out.txt --library=E:\biocbuild\bbs-3.21-bioc\R\library --no-vignettes --timings MBASED_1.41.0.tar.gz StartedAt: 2025-02-05 03:02:20 -0500 (Wed, 05 Feb 2025) EndedAt: 2025-02-05 03:05:59 -0500 (Wed, 05 Feb 2025) EllapsedTime: 219.7 seconds RetCode: 0 Status: OK CheckDir: MBASED.Rcheck Warnings: 0