Package: MBASED Version: 1.41.0 Command: E:\biocbuild\bbs-3.21-bioc\R\bin\R.exe CMD INSTALL MBASED StartedAt: 2025-02-09 16:16:33 -0500 (Sun, 09 Feb 2025) EndedAt: 2025-02-09 16:17:03 -0500 (Sun, 09 Feb 2025) EllapsedTime: 30.4 seconds RetCode: 0 Status: OK