Package: MBCB Version: 1.61.0 Command: /Library/Frameworks/R.framework/Resources/bin/R CMD check --install=check:MBCB.install-out.txt --library=/Library/Frameworks/R.framework/Resources/library --no-vignettes --timings MBCB_1.61.0.tar.gz StartedAt: 2025-02-04 19:58:19 -0500 (Tue, 04 Feb 2025) EndedAt: 2025-02-04 19:58:33 -0500 (Tue, 04 Feb 2025) EllapsedTime: 14.1 seconds RetCode: 0 Status: OK CheckDir: MBCB.Rcheck Warnings: 0