Package: MBCB Version: 1.61.0 Command: /Library/Frameworks/R.framework/Resources/bin/R CMD INSTALL MBCB StartedAt: 2025-02-04 15:01:20 -0500 (Tue, 04 Feb 2025) EndedAt: 2025-02-04 15:01:22 -0500 (Tue, 04 Feb 2025) EllapsedTime: 2.3 seconds RetCode: 0 Status: OK