Package: MBCB Version: 1.61.0 Command: rm -rf MBCB.buildbin-libdir && mkdir MBCB.buildbin-libdir && E:\biocbuild\bbs-3.21-bioc\R\bin\R.exe CMD INSTALL --build --library=MBCB.buildbin-libdir MBCB_1.61.0.tar.gz StartedAt: 2025-02-10 08:04:53 -0500 (Mon, 10 Feb 2025) EndedAt: 2025-02-10 08:05:04 -0500 (Mon, 10 Feb 2025) EllapsedTime: 11.1 seconds RetCode: 0 Status: OK PackageFile: MBCB_1.61.0.zip PackageFileSize: 382.2 KiB