Package: MBCB Version: 1.61.0 Command: E:\biocbuild\bbs-3.21-bioc\R\bin\R.exe CMD INSTALL MBCB StartedAt: 2025-02-09 15:19:45 -0500 (Sun, 09 Feb 2025) EndedAt: 2025-02-09 15:20:05 -0500 (Sun, 09 Feb 2025) EllapsedTime: 20.6 seconds RetCode: 0 Status: OK