Package: MBECS Version: 1.11.0 Command: /Library/Frameworks/R.framework/Resources/bin/R CMD check --install=check:MBECS.install-out.txt --library=/Library/Frameworks/R.framework/Resources/library --no-vignettes --timings MBECS_1.11.0.tar.gz StartedAt: 2025-02-04 19:58:33 -0500 (Tue, 04 Feb 2025) EndedAt: 2025-02-04 20:00:01 -0500 (Tue, 04 Feb 2025) EllapsedTime: 88.1 seconds RetCode: 0 Status: OK CheckDir: MBECS.Rcheck Warnings: 0