Package: MBECS Version: 1.11.0 Command: /Library/Frameworks/R.framework/Resources/bin/R CMD INSTALL MBECS StartedAt: 2025-02-04 15:22:49 -0500 (Tue, 04 Feb 2025) EndedAt: 2025-02-04 15:22:57 -0500 (Tue, 04 Feb 2025) EllapsedTime: 7.7 seconds RetCode: 0 Status: OK