Package: MBECS Version: 1.11.0 Command: /Library/Frameworks/R.framework/Resources/bin/R CMD build --keep-empty-dirs --no-resave-data MBECS StartedAt: 2025-02-04 17:14:32 -0500 (Tue, 04 Feb 2025) EndedAt: 2025-02-04 17:15:43 -0500 (Tue, 04 Feb 2025) EllapsedTime: 70.9 seconds RetCode: 0 Status: OK PackageFile: MBECS_1.11.0.tar.gz PackageFileSize: 1.722 MiB