Package: MBECS Version: 1.11.0 Command: /Library/Frameworks/R.framework/Resources/bin/R CMD INSTALL MBECS StartedAt: 2025-02-04 15:35:50 -0500 (Tue, 04 Feb 2025) EndedAt: 2025-02-04 15:36:16 -0500 (Tue, 04 Feb 2025) EllapsedTime: 26.0 seconds RetCode: 0 Status: OK