Package: MBECS Version: 1.11.0 Command: rm -rf MBECS.buildbin-libdir && mkdir MBECS.buildbin-libdir && E:\biocbuild\bbs-3.21-bioc\R\bin\R.exe CMD INSTALL --build --library=MBECS.buildbin-libdir MBECS_1.11.0.tar.gz StartedAt: 2025-02-10 08:04:55 -0500 (Mon, 10 Feb 2025) EndedAt: 2025-02-10 08:05:37 -0500 (Mon, 10 Feb 2025) EllapsedTime: 41.7 seconds RetCode: 0 Status: OK PackageFile: MBECS_1.11.0.zip PackageFileSize: 530.8 KiB