Package: MBQN Version: 2.19.0 Command: /Library/Frameworks/R.framework/Resources/bin/R CMD INSTALL MBQN StartedAt: 2025-02-05 15:15:41 -0500 (Wed, 05 Feb 2025) EndedAt: 2025-02-05 15:15:43 -0500 (Wed, 05 Feb 2025) EllapsedTime: 1.3 seconds RetCode: 0 Status: OK