Package: MBQN Version: 2.19.0 Command: rm -rf MBQN.buildbin-libdir && mkdir MBQN.buildbin-libdir && /Users/biocbuild/BBS/utils/build-universal.sh MBQN_2.19.0.tar.gz /Library/Frameworks/R.framework/Resources/bin/R MBQN.buildbin-libdir StartedAt: 2025-02-05 00:47:23 -0500 (Wed, 05 Feb 2025) EndedAt: 2025-02-05 00:47:30 -0500 (Wed, 05 Feb 2025) EllapsedTime: 7.0 seconds RetCode: 0 Status: OK PackageFile: MBQN_2.19.0.tgz PackageFileSize: 282.7 KiB