Package: MBQN Version: 2.19.0 Command: /Library/Frameworks/R.framework/Resources/bin/R CMD build --keep-empty-dirs --no-resave-data MBQN StartedAt: 2025-02-05 17:14:13 -0500 (Wed, 05 Feb 2025) EndedAt: 2025-02-05 17:14:26 -0500 (Wed, 05 Feb 2025) EllapsedTime: 12.5 seconds RetCode: 0 Status: OK PackageFile: MBQN_2.19.0.tar.gz PackageFileSize: 220.6 KiB